BEGIN:VCALENDAR
VERSION:2.0
PRODID:-//Matthew Hussey - ECPv6.15.17.1//NONSGML v1.0//EN
CALSCALE:GREGORIAN
METHOD:PUBLISH
X-WR-CALNAME:Matthew Hussey
X-ORIGINAL-URL:https://matthewhussey.com
X-WR-CALDESC:Events for Matthew Hussey
REFRESH-INTERVAL;VALUE=DURATION:PT1H
X-Robots-Tag:noindex
X-PUBLISHED-TTL:PT1H
BEGIN:VTIMEZONE
TZID:America/New_York
BEGIN:DAYLIGHT
TZOFFSETFROM:-0500
TZOFFSETTO:-0400
TZNAME:EDT
DTSTART:20220313T070000
END:DAYLIGHT
BEGIN:STANDARD
TZOFFSETFROM:-0400
TZOFFSETTO:-0500
TZNAME:EST
DTSTART:20221106T060000
END:STANDARD
BEGIN:DAYLIGHT
TZOFFSETFROM:-0500
TZOFFSETTO:-0400
TZNAME:EDT
DTSTART:20230312T070000
END:DAYLIGHT
BEGIN:STANDARD
TZOFFSETFROM:-0400
TZOFFSETTO:-0500
TZNAME:EST
DTSTART:20231105T060000
END:STANDARD
BEGIN:DAYLIGHT
TZOFFSETFROM:-0500
TZOFFSETTO:-0400
TZNAME:EDT
DTSTART:20240310T070000
END:DAYLIGHT
BEGIN:STANDARD
TZOFFSETFROM:-0400
TZOFFSETTO:-0500
TZNAME:EST
DTSTART:20241103T060000
END:STANDARD
END:VTIMEZONE
BEGIN:VEVENT
DTSTART;TZID=America/New_York:20230524T140000
DTEND;TZID=America/New_York:20230524T150000
DTSTAMP:20260421T103315
CREATED:20230412T234133Z
LAST-MODIFIED:20230419T195311Z
UID:10000012-1684936800-1684940400@matthewhussey.com
SUMMARY:Members Workshop and Q&A—LIVE w/ Matthew Hussey
DESCRIPTION:
URL:https://matthewhussey.com/llc-event/members-workshop-and-qa-live-w-matthew-hussey-3/
ATTACH;FMTTYPE=image/jpeg:https://matthewhussey.com/wp-content/uploads/2023/04/LLC-workshop-event-Matthew-scaled.jpg
END:VEVENT
BEGIN:VEVENT
DTSTART;TZID=America/New_York:20230607T140000
DTEND;TZID=America/New_York:20230607T160000
DTSTAMP:20260421T103315
CREATED:20230507T044549Z
LAST-MODIFIED:20230507T044549Z
UID:10000014-1686146400-1686153600@matthewhussey.com
SUMMARY:How to Love Yourself—w/ Lisa Bilyeu
DESCRIPTION:
URL:https://matthewhussey.com/llc-event/how-to-love-yourself-w-lisa-bilyeu/
ATTACH;FMTTYPE=image/jpeg:https://matthewhussey.com/wp-content/uploads/2023/05/LLC-Interview-event-lisa-scaled.jpg
END:VEVENT
BEGIN:VEVENT
DTSTART;TZID=America/New_York:20230614T140000
DTEND;TZID=America/New_York:20230614T150000
DTSTAMP:20260421T103315
CREATED:20230507T044718Z
LAST-MODIFIED:20230711T183810Z
UID:10000015-1686751200-1686754800@matthewhussey.com
SUMMARY:Members Workshop and Q&A—LIVE w/ Matthew Hussey
DESCRIPTION:
URL:https://matthewhussey.com/llc-event/members-workshop-and-qa-live-w-matthew-hussey-4/
CATEGORIES:Love Life Club
ATTACH;FMTTYPE=image/jpeg:https://matthewhussey.com/wp-content/uploads/2023/05/Event-Banner-Wednesday-June-14th-Members-Workshop-and-QA—LIVE-w-Matthew-Hussey-scaled.jpg
END:VEVENT
BEGIN:VEVENT
DTSTART;TZID=America/New_York:20230621T140000
DTEND;TZID=America/New_York:20230621T150000
DTSTAMP:20260421T103315
CREATED:20230507T044829Z
LAST-MODIFIED:20230630T142026Z
UID:10000016-1687356000-1687359600@matthewhussey.com
SUMMARY:Members Workshop and Q&A—LIVE w/ Stephen Hussey
DESCRIPTION:
URL:https://matthewhussey.com/llc-event/members-workshop-and-qa-live-w-stephen-hussey-4/
CATEGORIES:Love Life Club
ATTACH;FMTTYPE=image/jpeg:https://matthewhussey.com/wp-content/uploads/2023/05/Event-Banner-Wednesday-June-21st-Members-Workshop-and-QA—LIVE-w-Stephen-Hussey-scaled.jpg
END:VEVENT
BEGIN:VEVENT
DTSTART;TZID=America/New_York:20230628T160000
DTEND;TZID=America/New_York:20230628T170000
DTSTAMP:20260421T103315
CREATED:20230507T045021Z
LAST-MODIFIED:20230630T141723Z
UID:10000017-1687968000-1687971600@matthewhussey.com
SUMMARY:Finding Hope in Love and Eliminating Your Anxiety—LIVE w/ Tanya Rad
DESCRIPTION:
URL:https://matthewhussey.com/llc-event/finding-hope-in-love-and-eliminating-your-anxiety-live-w-tanya-rad/
CATEGORIES:Love Life Club
ATTACH;FMTTYPE=image/jpeg:https://matthewhussey.com/wp-content/uploads/2023/05/Interview-Event-Banner-Wednesday-June-28th-Finding-Hope-In-Love-And-Eliminating-Your-Anxiety—LIVE-w-Tanya-Rad-scaled.jpg
END:VEVENT
END:VCALENDAR